BEGIN:VCALENDAR
VERSION:2.0
PRODID:-//wp-events-plugin.com//7.2.3.1//EN
TZID:Europe/Amsterdam
X-WR-TIMEZONE:Europe/Amsterdam
BEGIN:VEVENT
UID:102@onbeperktaandeslag.nl
DTSTART;TZID=Europe/Amsterdam:20260526T130000
DTEND;TZID=Europe/Amsterdam:20260526T160000
DTSTAMP:20260218T105229Z
URL:https://onbeperktaandeslag.nl/evenementen/zwolle/
SUMMARY:Meet&Greet | Windesheim Zwolle
DESCRIPTION:Wat leuk dat je interesse hebt in onze fysieke Meet&amp\;Greet 
 op dinsdag 26 mei 2026 in Zwolle.\n\nVanaf 13:00 uur verwelkomen we je gra
 ag. Vervolgens kun je tussen 13:00u en 16:00u in gesprek gaan met één of
  meerdere werkgevers van jouw keuze. Je hoeft van tevoren geen keuze door 
 te geven.\n\nGa naar de aanmeldportal voor deze Meet&amp\;Greet. Een apar
 t venster wordt geopend. \n\nWil jij meer weten over een Meet&amp\;Greet?
  Kijk dan op onze pagina met de Veelstgestelde vragen over een Meet&amp\;G
 reet  Een apart venster wordt geopend. 
CATEGORIES:Meet&amp;Greet,Werkzoekend
LOCATION:https://werk.onbeperktaandeslag.nl/evenement/meetgreet-windesheim-
 zwolle#navbar-main
END:VEVENT
BEGIN:VTIMEZONE
TZID:Europe/Amsterdam
X-LIC-LOCATION:Europe/Amsterdam
BEGIN:DAYLIGHT
DTSTART:20260329T030000
TZOFFSETFROM:+0100
TZOFFSETTO:+0200
TZNAME:CEST
END:DAYLIGHT
END:VTIMEZONE
END:VCALENDAR