BEGIN:VCALENDAR
VERSION:2.0
PRODID:-//wp-events-plugin.com//7.2.3.1//EN
TZID:Europe/Amsterdam
X-WR-TIMEZONE:Europe/Amsterdam
BEGIN:VEVENT
UID:14@onbeperktaandeslag.nl
DTSTART;TZID=Europe/Amsterdam:20250220T130000
DTEND;TZID=Europe/Amsterdam:20250220T160000
DTSTAMP:20241216T133609Z
URL:https://onbeperktaandeslag.nl/evenementen/meetgreet-rijksoverheid-den-
 haag/
SUMMARY:Meet&Greet Rijksoverheid Den Haag
DESCRIPTION:Klik hier om je aan te melden voor de Meet&amp\;Greet bij Rijks
 overheid Den Haag op 20 februari 2025
CATEGORIES:Werkgever
LOCATION:https://werk.onbeperktaandeslag.nl/evenement/meetgreet-rijksoverhe
 id-den-haag
END:VEVENT
BEGIN:VTIMEZONE
TZID:Europe/Amsterdam
X-LIC-LOCATION:Europe/Amsterdam
BEGIN:STANDARD
DTSTART:20241027T020000
TZOFFSETFROM:+0200
TZOFFSETTO:+0100
TZNAME:CET
END:STANDARD
END:VTIMEZONE
END:VCALENDAR