BEGIN:VCALENDAR
VERSION:2.0
PRODID:-//wp-events-plugin.com//7.2.3.1//EN
TZID:Europe/Amsterdam
X-WR-TIMEZONE:Europe/Amsterdam
BEGIN:VEVENT
UID:105@onbeperktaandeslag.nl
DTSTART;TZID=Europe/Amsterdam:20260528T130000
DTEND;TZID=Europe/Amsterdam:20260528T160000
DTSTAMP:20260218T111448Z
URL:https://onbeperktaandeslag.nl/evenementen/meetgreet-hbo-wo-amsterdam/
SUMMARY:Meet&Greet | HBO/WO Van Lanschot Kempen Amsterdam
DESCRIPTION:Wat leuk dat je interesse hebt\, als werkgever\, in onze fysiek
 e Meet&amp\;Greet op donderdag 28 mei 2026 bij Van Lanschot Kempen in Amst
 erdam. \n\nGa naar de aanmeldportal voor deze Meet&amp\;Greet. Een apart
  venster wordt geopend. \n\nWil jij meer weten over een Meet&amp\;Greet? 
 Kijk dan op onze pagina met de Veelstgestelde vragen over een Meet&amp\;Gr
 eet  Een apart venster wordt geopend. 
CATEGORIES:Meet&amp;Greet,Werkgever
LOCATION:https://werk.onbeperktaandeslag.nl/evenement/meetgreet-van-lanscho
 t-kempen-amsterdam-0#navbar-main
END:VEVENT
BEGIN:VTIMEZONE
TZID:Europe/Amsterdam
X-LIC-LOCATION:Europe/Amsterdam
BEGIN:DAYLIGHT
DTSTART:20260329T030000
TZOFFSETFROM:+0100
TZOFFSETTO:+0200
TZNAME:CEST
END:DAYLIGHT
END:VTIMEZONE
END:VCALENDAR