BEGIN:VCALENDAR
VERSION:2.0
PRODID:-//wp-events-plugin.com//7.2.3.1//EN
TZID:Europe/Amsterdam
X-WR-TIMEZONE:Europe/Amsterdam
BEGIN:VEVENT
UID:97@onbeperktaandeslag.nl
DTSTART;TZID=Europe/Amsterdam:20260402T133000
DTEND;TZID=Europe/Amsterdam:20260402T160000
DTSTAMP:20260218T103626Z
URL:https://onbeperktaandeslag.nl/evenementen/meetgreet-haarlem-werkcentru
 m-zuid-kennemerland-2/
SUMMARY:Meet&Greet | Werkcentrum Zuid-Kennemerland/IJmond
DESCRIPTION:Wat leuk dat je interesse hebt in onze fysieke Meet&amp\;Greet 
 op donderdag 02 april 2026. \n\nGa naar de aanmeldportal voor deze Meet&
 amp\;Greet. Een apart venster wordt geopend. \n\nWil jij meer weten over 
 een Meet&amp\;Greet? Kijk dan op onze pagina met de Veelstgestelde vragen 
 over een Meet&amp\;Greet  Een apart venster wordt geopend. 
CATEGORIES:Meet&amp;Greet,Werkgever
LOCATION:https://werk.onbeperktaandeslag.nl/evenement/meetgreet-haarlem-wer
 kcentrum-zuid-kennemerland-0#navbar-main
END:VEVENT
BEGIN:VTIMEZONE
TZID:Europe/Amsterdam
X-LIC-LOCATION:Europe/Amsterdam
BEGIN:DAYLIGHT
DTSTART:20260329T030000
TZOFFSETFROM:+0100
TZOFFSETTO:+0200
TZNAME:CEST
END:DAYLIGHT
END:VTIMEZONE
END:VCALENDAR