BEGIN:VCALENDAR
VERSION:2.0
PRODID:-//wp-events-plugin.com//7.2.3.1//EN
TZID:Europe/Amsterdam
X-WR-TIMEZONE:Europe/Amsterdam
BEGIN:VEVENT
UID:107@onbeperktaandeslag.nl
DTSTART;TZID=Europe/Amsterdam:20260519T130000
DTEND;TZID=Europe/Amsterdam:20260519T170000
DTSTAMP:20260317T122117Z
URL:https://onbeperktaandeslag.nl/evenementen/digitale-meetgreet-werkgever
 -19-mei/
SUMMARY:Digitale Meet&Greet Werkgever 19 mei
DESCRIPTION:Doe als werkgever mee aan deze digitale Meet&amp\;Greet op dins
 dag 19 mei 2026!\n\nTwee weken van tevoren aanmelden is noodzakelijk\, omd
 at werkzoekenden anders jou niet kunnen selecteren.\n\nLoop dus geen mense
 n mis en meld je zo snel mogelijk aan. Klik hier.\n\nBen je een aangeslote
 n partner? Meld je eerst aan via je persoonlijke werkgeversaccount\, zodat
  je snel alle evenementen kunt vinden.  Een apart venster wordt geopend.
  
CATEGORIES:Meet&amp;Greet,Werkgever
LOCATION:https://werk.onbeperktaandeslag.nl/evenement/digitale-meetgreet-19
 -mei-2026-0#navbar-main
END:VEVENT
BEGIN:VTIMEZONE
TZID:Europe/Amsterdam
X-LIC-LOCATION:Europe/Amsterdam
BEGIN:DAYLIGHT
DTSTART:20260329T030000
TZOFFSETFROM:+0100
TZOFFSETTO:+0200
TZNAME:CEST
END:DAYLIGHT
END:VTIMEZONE
END:VCALENDAR